BEGIN:VCALENDAR
VERSION:2.0
PRODID:-//Foxboro Classical Ballet Academy - ECPv4.1.4//NONSGML v1.0//EN
CALSCALE:GREGORIAN
METHOD:PUBLISH
X-WR-CALNAME:Foxboro Classical Ballet Academy
X-ORIGINAL-URL:http://www.foxboroballet.com
X-WR-CALDESC:Events for Foxboro Classical Ballet Academy
BEGIN:VEVENT
DTSTART;TZID=America/New_York:20240819T090000
DTEND;TZID=America/New_York:20240819T110000
DTSTAMP:20260425T180227
CREATED:20240708T132112
LAST-MODIFIED:20240708T132206
UID:10926-1724058000-1724065200@www.foxboroballet.com
SUMMARY:Intensive Intermediate over 12-9:00-11:00
DESCRIPTION:
URL:http://www.foxboroballet.com/event/intensive-camp-intermediate-over-12/2024-08-19/
END:VEVENT
BEGIN:VEVENT
DTSTART;TZID=America/New_York:20240819T090000
DTEND;TZID=America/New_York:20240819T120000
DTSTAMP:20260425T180227
CREATED:20240708T132337
LAST-MODIFIED:20240708T132337
UID:10933-1724058000-1724068800@www.foxboroballet.com
SUMMARY:Intensive Advance 9:00-12:00
DESCRIPTION:
URL:http://www.foxboroballet.com/event/intensive-advance-900-1200/2024-08-19/
END:VEVENT
END:VCALENDAR