BEGIN:VCALENDAR
VERSION:2.0
PRODID:-//Foxboro Classical Ballet Academy - ECPv4.1.4//NONSGML v1.0//EN
CALSCALE:GREGORIAN
METHOD:PUBLISH
X-WR-CALNAME:Foxboro Classical Ballet Academy
X-ORIGINAL-URL:http://www.foxboroballet.com
X-WR-CALDESC:Events for Foxboro Classical Ballet Academy
BEGIN:VEVENT
DTSTART;TZID=America/New_York:20240713T100000
DTEND;TZID=America/New_York:20240713T110000
DTSTAMP:20260425T192318
CREATED:20240708T132856
LAST-MODIFIED:20240708T132856
UID:10944-1720864800-1720868400@www.foxboroballet.com
SUMMARY:Adult/Teen Beg. to Advanced 10:00-11:00
DESCRIPTION:
URL:http://www.foxboroballet.com/event/adultteen-beg-to-advanced-1000-1100/2024-07-13/
END:VEVENT
BEGIN:VEVENT
DTSTART;TZID=America/New_York:20240713T110000
DTEND;TZID=America/New_York:20240713T120000
DTSTAMP:20260425T192318
CREATED:20240708T132528
LAST-MODIFIED:20240708T132528
UID:10938-1720868400-1720872000@www.foxboroballet.com
SUMMARY:Beg/Intermediate UNDER 12-11:00-12:00
DESCRIPTION:
URL:http://www.foxboroballet.com/event/begintermediate-under-12-1100-1200/2024-07-13/
END:VEVENT
END:VCALENDAR