BEGIN:VCALENDAR
VERSION:2.0
PRODID:-//Foxboro Classical Ballet Academy - ECPv4.1.4//NONSGML v1.0//EN
CALSCALE:GREGORIAN
METHOD:PUBLISH
X-WR-CALNAME:Foxboro Classical Ballet Academy
X-ORIGINAL-URL:http://www.foxboroballet.com
X-WR-CALDESC:Events for Foxboro Classical Ballet Academy
BEGIN:VEVENT
DTSTART;TZID=America/New_York:20211125T080000
DTEND;TZID=America/New_York:20211125T170000
DTSTAMP:20260425T144430
CREATED:20210804T153408
LAST-MODIFIED:20210804T153408
UID:10022-1637827200-1637859600@www.foxboroballet.com
SUMMARY:Thanksgiving
DESCRIPTION:
URL:http://www.foxboroballet.com/event/thanksgiving-2/
END:VEVENT
END:VCALENDAR