BEGIN:VCALENDAR
VERSION:2.0
PRODID:-//Foxboro Classical Ballet Academy - ECPv4.1.4//NONSGML v1.0//EN
CALSCALE:GREGORIAN
METHOD:PUBLISH
X-WR-CALNAME:Foxboro Classical Ballet Academy
X-ORIGINAL-URL:http://www.foxboroballet.com
X-WR-CALDESC:Events for Foxboro Classical Ballet Academy
BEGIN:VEVENT
DTSTART;TZID=America/New_York:20210705T090000
DTEND;TZID=America/New_York:20210705T120000
DTSTAMP:20260425T114553
CREATED:20210615T143526
LAST-MODIFIED:20210615T145129
UID:9667-1625475600-1625486400@www.foxboroballet.com
SUMMARY:Summer Intensive-Level 3 and up: 9:00-12:00
DESCRIPTION:
URL:http://www.foxboroballet.com/event/summer-intensive-level-3-and-up/2021-07-05/
END:VEVENT
END:VCALENDAR