BEGIN:VCALENDAR
VERSION:2.0
PRODID:-//Foxboro Classical Ballet Academy - ECPv4.1.4//NONSGML v1.0//EN
CALSCALE:GREGORIAN
METHOD:PUBLISH
X-WR-CALNAME:Foxboro Classical Ballet Academy
X-ORIGINAL-URL:http://www.foxboroballet.com
X-WR-CALDESC:Events for Foxboro Classical Ballet Academy
BEGIN:VEVENT
DTSTART;TZID=America/New_York:20210705T130000
DTEND;TZID=America/New_York:20210705T150000
DTSTAMP:20260425T103610
CREATED:20210615T143757
LAST-MODIFIED:20210615T145043
UID:9668-1625490000-1625497200@www.foxboroballet.com
SUMMARY:Summer Intensive Level 2 and up 1:00-3:00
DESCRIPTION:
URL:http://www.foxboroballet.com/event/summer-intensive-level-2-and-up-100-300/2021-07-05/
END:VEVENT
END:VCALENDAR