BEGIN:VCALENDAR
VERSION:2.0
PRODID:-//Foxboro Classical Ballet Academy - ECPv4.1.4//NONSGML v1.0//EN
CALSCALE:GREGORIAN
METHOD:PUBLISH
X-WR-CALNAME:Foxboro Classical Ballet Academy
X-ORIGINAL-URL:http://www.foxboroballet.com
X-WR-CALDESC:Events for Foxboro Classical Ballet Academy
BEGIN:VEVENT
DTSTART;TZID=America/New_York:20230328T080000
DTEND;TZID=America/New_York:20230328T170000
DTSTAMP:20260425T010544
CREATED:20230329T134304
LAST-MODIFIED:20230329T134338
UID:10839-1679990400-1680022800@www.foxboroballet.com
SUMMARY:Studio G Tap and Jazz
DESCRIPTION:
URL:http://www.foxboroballet.com/event/studio-g-tap-and-jazz/2023-03-28/
END:VEVENT
END:VCALENDAR