BEGIN:VCALENDAR
VERSION:2.0
PRODID:-//Foxboro Classical Ballet Academy - ECPv4.1.4//NONSGML v1.0//EN
CALSCALE:GREGORIAN
METHOD:PUBLISH
X-WR-CALNAME:Foxboro Classical Ballet Academy
X-ORIGINAL-URL:http://www.foxboroballet.com
X-WR-CALDESC:Events for Foxboro Classical Ballet Academy
BEGIN:VEVENT
DTSTART;TZID=America/New_York:20211227T080000
DTEND;TZID=America/New_York:20211227T090000
DTSTAMP:20260425T114243
CREATED:20211227T155703
LAST-MODIFIED:20211227T155703
UID:10330-1640592000-1640595600@www.foxboroballet.com
SUMMARY:School Closed
DESCRIPTION:
URL:http://www.foxboroballet.com/event/school-closed-3/2021-12-27/
END:VEVENT
END:VCALENDAR