BEGIN:VCALENDAR
VERSION:2.0
PRODID:-//Foxboro Classical Ballet Academy - ECPv4.1.4//NONSGML v1.0//EN
CALSCALE:GREGORIAN
METHOD:PUBLISH
X-WR-CALNAME:Foxboro Classical Ballet Academy
X-ORIGINAL-URL:http://www.foxboroballet.com
X-WR-CALDESC:Events for Foxboro Classical Ballet Academy
BEGIN:VEVENT
DTSTART;TZID=America/New_York:20210910T080000
DTEND;TZID=America/New_York:20210910T170000
DTSTAMP:20260425T114109
CREATED:20210805T132406
LAST-MODIFIED:20211227T154211
UID:10037-1631260800-1631293200@www.foxboroballet.com
SUMMARY:Open for possible future classes
DESCRIPTION:
URL:http://www.foxboroballet.com/event/open-for-possible-future-classes/2021-09-10/
END:VEVENT
END:VCALENDAR