BEGIN:VCALENDAR
VERSION:2.0
PRODID:-//Foxboro Classical Ballet Academy - ECPv4.1.4//NONSGML v1.0//EN
CALSCALE:GREGORIAN
METHOD:PUBLISH
X-WR-CALNAME:Foxboro Classical Ballet Academy
X-ORIGINAL-URL:http://www.foxboroballet.com
X-WR-CALDESC:Events for Foxboro Classical Ballet Academy
BEGIN:VEVENT
DTSTART;TZID=America/New_York:20211210T080000
DTEND;TZID=America/New_York:20211210T170000
DTSTAMP:20260425T144121
CREATED:20210804T153510
LAST-MODIFIED:20210804T153621
UID:10023-1639123200-1639155600@www.foxboroballet.com
SUMMARY:NUTCRACKER!
DESCRIPTION:
URL:http://www.foxboroballet.com/event/nutcracker/2021-12-10/
END:VEVENT
END:VCALENDAR