BEGIN:VCALENDAR
VERSION:2.0
PRODID:-//Foxboro Classical Ballet Academy - ECPv4.1.4//NONSGML v1.0//EN
CALSCALE:GREGORIAN
METHOD:PUBLISH
X-WR-CALNAME:Foxboro Classical Ballet Academy
X-ORIGINAL-URL:http://www.foxboroballet.com
X-WR-CALDESC:Events for Foxboro Classical Ballet Academy
BEGIN:VEVENT
DTSTART;TZID=America/New_York:20170915T160000
DTEND;TZID=America/New_York:20170915T180000
DTSTAMP:20260425T042811
CREATED:20170104T160346
LAST-MODIFIED:20180205T151116
UID:6322-1505491200-1505498400@www.foxboroballet.com
SUMMARY:Ballet\, Level 3\,4\, and 5\, by invitation only\, with Mary 4:00-6:00
DESCRIPTION:
URL:http://www.foxboroballet.com/event/level-3-and-4-no-pointe-by-invitation-only/2017-09-15/
END:VEVENT
END:VCALENDAR