BEGIN:VCALENDAR
VERSION:2.0
PRODID:-//Foxboro Classical Ballet Academy - ECPv4.1.4//NONSGML v1.0//EN
CALSCALE:GREGORIAN
METHOD:PUBLISH
X-WR-CALNAME:Foxboro Classical Ballet Academy
X-ORIGINAL-URL:http://www.foxboroballet.com
X-WR-CALDESC:Events for Foxboro Classical Ballet Academy
BEGIN:VEVENT
DTSTART;TZID=America/New_York:20210630T080000
DTEND;TZID=America/New_York:20210630T170000
DTSTAMP:20260425T102102
CREATED:20210615T143205
LAST-MODIFIED:20210615T143205
UID:9665-1625040000-1625072400@www.foxboroballet.com
SUMMARY:Last Day of Spring Session
DESCRIPTION:
URL:http://www.foxboroballet.com/event/last-day-of-spring-session/
END:VEVENT
END:VCALENDAR