BEGIN:VCALENDAR
VERSION:2.0
PRODID:-//Foxboro Classical Ballet Academy - ECPv4.1.4//NONSGML v1.0//EN
CALSCALE:GREGORIAN
METHOD:PUBLISH
X-WR-CALNAME:Foxboro Classical Ballet Academy
X-ORIGINAL-URL:http://www.foxboroballet.com
X-WR-CALDESC:Events for Foxboro Classical Ballet Academy
BEGIN:VEVENT
DTSTART;TZID=America/New_York:20240723T153000
DTEND;TZID=America/New_York:20240723T170000
DTSTAMP:20260425T160641
CREATED:20240708T130933
LAST-MODIFIED:20240708T132654
UID:10902-1721748600-1721754000@www.foxboroballet.com
SUMMARY:Intermediate/Adv OVER 12-3:30-5:00
DESCRIPTION:
URL:http://www.foxboroballet.com/event/intermediate-advanced-over-12/2024-07-23/
END:VEVENT
END:VCALENDAR