BEGIN:VCALENDAR
VERSION:2.0
PRODID:-//Foxboro Classical Ballet Academy - ECPv4.1.4//NONSGML v1.0//EN
CALSCALE:GREGORIAN
METHOD:PUBLISH
X-WR-CALNAME:Foxboro Classical Ballet Academy
X-ORIGINAL-URL:http://www.foxboroballet.com
X-WR-CALDESC:Events for Foxboro Classical Ballet Academy
BEGIN:VEVENT
DTSTART;TZID=America/New_York:20240718T153000
DTEND;TZID=America/New_York:20240718T170000
DTSTAMP:20260425T114145
CREATED:20240708T130933
LAST-MODIFIED:20240708T132654
UID:10901-1721316600-1721322000@www.foxboroballet.com
SUMMARY:Intermediate/Adv OVER 12-3:30-5:00
DESCRIPTION:
URL:http://www.foxboroballet.com/event/intermediate-advanced-over-12/2024-07-18/
END:VEVENT
END:VCALENDAR