BEGIN:VCALENDAR
VERSION:2.0
PRODID:-//Foxboro Classical Ballet Academy - ECPv4.1.4//NONSGML v1.0//EN
CALSCALE:GREGORIAN
METHOD:PUBLISH
X-WR-CALNAME:Foxboro Classical Ballet Academy
X-ORIGINAL-URL:http://www.foxboroballet.com
X-WR-CALDESC:Events for Foxboro Classical Ballet Academy
BEGIN:VEVENT
DTSTART;TZID=America/New_York:20240826T090000
DTEND;TZID=America/New_York:20240826T110000
DTSTAMP:20260425T114200
CREATED:20240708T132112
LAST-MODIFIED:20240708T132206
UID:10929-1724662800-1724670000@www.foxboroballet.com
SUMMARY:Intensive Intermediate over 12-9:00-11:00
DESCRIPTION:
URL:http://www.foxboroballet.com/event/intensive-camp-intermediate-over-12/2024-08-26/
END:VEVENT
END:VCALENDAR