BEGIN:VCALENDAR
VERSION:2.0
PRODID:-//Foxboro Classical Ballet Academy - ECPv4.1.4//NONSGML v1.0//EN
CALSCALE:GREGORIAN
METHOD:PUBLISH
X-WR-CALNAME:Foxboro Classical Ballet Academy
X-ORIGINAL-URL:http://www.foxboroballet.com
X-WR-CALDESC:Events for Foxboro Classical Ballet Academy
BEGIN:VEVENT
DTSTART;TZID=America/New_York:20211016T113000
DTEND;TZID=America/New_York:20211016T130000
DTSTAMP:20260425T130747
CREATED:20211011T153735
LAST-MODIFIED:20211011T153735
UID:10166-1634383800-1634389200@www.foxboroballet.com
SUMMARY:Group C
DESCRIPTION:
URL:http://www.foxboroballet.com/event/group-c/2021-10-16/
END:VEVENT
END:VCALENDAR