BEGIN:VCALENDAR
VERSION:2.0
PRODID:-//Foxboro Classical Ballet Academy - ECPv4.1.4//NONSGML v1.0//EN
CALSCALE:GREGORIAN
METHOD:PUBLISH
X-WR-CALNAME:Foxboro Classical Ballet Academy
X-ORIGINAL-URL:http://www.foxboroballet.com
X-WR-CALDESC:Events for Foxboro Classical Ballet Academy
BEGIN:VEVENT
DTSTART;TZID=America/New_York:20230201T173000
DTEND;TZID=America/New_York:20230201T181500
DTSTAMP:20260425T115556
CREATED:20220824T131831
LAST-MODIFIED:20230329T131851
UID:10382-1675272600-1675275300@www.foxboroballet.com
SUMMARY:Group A and A+ 5:30-6:15
DESCRIPTION:
URL:http://www.foxboroballet.com/event/group-a-and-a-530-615/2023-02-01/
END:VEVENT
END:VCALENDAR