BEGIN:VCALENDAR
VERSION:2.0
PRODID:-//Foxboro Classical Ballet Academy - ECPv4.1.4//NONSGML v1.0//EN
CALSCALE:GREGORIAN
METHOD:PUBLISH
X-WR-CALNAME:Foxboro Classical Ballet Academy
X-ORIGINAL-URL:http://www.foxboroballet.com
X-WR-CALDESC:Events for Foxboro Classical Ballet Academy
BEGIN:VEVENT
DTSTART;TZID=America/New_York:20211225T080000
DTEND;TZID=America/New_York:20211225T170000
DTSTAMP:20260425T131201
CREATED:20210804T153705
LAST-MODIFIED:20210804T153705
UID:10029-1640419200-1640451600@www.foxboroballet.com
SUMMARY:Christmas
DESCRIPTION:
URL:http://www.foxboroballet.com/event/christmas/
END:VEVENT
END:VCALENDAR