BEGIN:VCALENDAR
VERSION:2.0
PRODID:-//Foxboro Classical Ballet Academy - ECPv4.1.4//NONSGML v1.0//EN
CALSCALE:GREGORIAN
METHOD:PUBLISH
X-WR-CALNAME:Foxboro Classical Ballet Academy
X-ORIGINAL-URL:http://www.foxboroballet.com
X-WR-CALDESC:Events for Foxboro Classical Ballet Academy
BEGIN:VEVENT
DTSTART;TZID=America/New_York:20240720T110000
DTEND;TZID=America/New_York:20240720T120000
DTSTAMP:20260425T144538
CREATED:20240708T132528
LAST-MODIFIED:20240708T132528
UID:10939-1721473200-1721476800@www.foxboroballet.com
SUMMARY:Beg/Intermediate UNDER 12-11:00-12:00
DESCRIPTION:
URL:http://www.foxboroballet.com/event/begintermediate-under-12-1100-1200/2024-07-20/
END:VEVENT
END:VCALENDAR