BEGIN:VCALENDAR
VERSION:2.0
PRODID:-//Foxboro Classical Ballet Academy - ECPv4.1.4//NONSGML v1.0//EN
CALSCALE:GREGORIAN
METHOD:PUBLISH
X-WR-CALNAME:Foxboro Classical Ballet Academy
X-ORIGINAL-URL:http://www.foxboroballet.com
X-WR-CALDESC:Events for Foxboro Classical Ballet Academy
BEGIN:VEVENT
DTSTART;TZID=America/New_York:20240722T161500
DTEND;TZID=America/New_York:20240722T173000
DTSTAMP:20260425T144321
CREATED:20240708T131727
LAST-MODIFIED:20240708T132618
UID:10917-1721664900-1721669400@www.foxboroballet.com
SUMMARY:Beg/Intermediate UNDER 12- 4:15-5:30
DESCRIPTION:
URL:http://www.foxboroballet.com/event/beginner-intermediate-under-12-415-530/2024-07-22/
END:VEVENT
END:VCALENDAR