BEGIN:VCALENDAR
VERSION:2.0
PRODID:-//Foxboro Classical Ballet Academy - ECPv4.1.4//NONSGML v1.0//EN
CALSCALE:GREGORIAN
METHOD:PUBLISH
X-WR-CALNAME:Foxboro Classical Ballet Academy
X-ORIGINAL-URL:http://www.foxboroballet.com
X-WR-CALDESC:Events for Foxboro Classical Ballet Academy
BEGIN:VEVENT
DTSTART;TZID=America/New_York:20220910T111500
DTEND;TZID=America/New_York:20220910T124500
DTSTAMP:20260425T102605
CREATED:20220824T132810
LAST-MODIFIED:20220824T132810
UID:10463-1662808500-1662813900@www.foxboroballet.com
SUMMARY:Ballet Group C 11:15-12:45
DESCRIPTION:
URL:http://www.foxboroballet.com/event/ballet-group-c-1115-1245/2022-09-10/
END:VEVENT
END:VCALENDAR