BEGIN:VCALENDAR
VERSION:2.0
PRODID:-//Foxboro Classical Ballet Academy - ECPv4.1.4//NONSGML v1.0//EN
CALSCALE:GREGORIAN
METHOD:PUBLISH
X-WR-CALNAME:Foxboro Classical Ballet Academy
X-ORIGINAL-URL:http://www.foxboroballet.com
X-WR-CALDESC:Events for Foxboro Classical Ballet Academy
BEGIN:VEVENT
DTSTART;TZID=America/New_York:20230325T094500
DTEND;TZID=America/New_York:20230325T120000
DTSTAMP:20260425T025708
CREATED:20160809T130435
LAST-MODIFIED:20230329T133446
UID:5333-1679737500-1679745600@www.foxboroballet.com
SUMMARY:Ballet Group B and B+\, and C 9:45-12:00
DESCRIPTION:
URL:http://www.foxboroballet.com/event/ballet-2-4/2023-03-25/
END:VEVENT
END:VCALENDAR