BEGIN:VCALENDAR
VERSION:2.0
PRODID:-//Foxboro Classical Ballet Academy - ECPv4.1.4//NONSGML v1.0//EN
CALSCALE:GREGORIAN
METHOD:PUBLISH
X-WR-CALNAME:Foxboro Classical Ballet Academy
X-ORIGINAL-URL:http://www.foxboroballet.com
X-WR-CALDESC:Events for Foxboro Classical Ballet Academy
BEGIN:VEVENT
DTSTART;TZID=America/New_York:20230325T121500
DTEND;TZID=America/New_York:20230325T130000
DTSTAMP:20260425T011159
CREATED:20230329T133614
LAST-MODIFIED:20230329T134444
UID:10798-1679746500-1679749200@www.foxboroballet.com
SUMMARY:Adult/Teen Beginner 12:15-1:00
DESCRIPTION:
URL:http://www.foxboroballet.com/event/adultteen-beginner-1215-100/2023-03-25/
END:VEVENT
END:VCALENDAR