BEGIN:VCALENDAR
VERSION:2.0
PRODID:-//Foxboro Classical Ballet Academy - ECPv4.1.4//NONSGML v1.0//EN
CALSCALE:GREGORIAN
METHOD:PUBLISH
X-WR-CALNAME:Foxboro Classical Ballet Academy
X-ORIGINAL-URL:http://www.foxboroballet.com
X-WR-CALDESC:Events for Foxboro Classical Ballet Academy
BEGIN:VEVENT
DTSTART;TZID=America/New_York:20240803T100000
DTEND;TZID=America/New_York:20240803T110000
DTSTAMP:20260425T102951
CREATED:20240708T132856
LAST-MODIFIED:20240708T132856
UID:10947-1722679200-1722682800@www.foxboroballet.com
SUMMARY:Adult/Teen Beg. to Advanced 10:00-11:00
DESCRIPTION:
URL:http://www.foxboroballet.com/event/adultteen-beg-to-advanced-1000-1100/2024-08-03/
END:VEVENT
END:VCALENDAR