BEGIN:VCALENDAR
VERSION:2.0
PRODID:-//Foxboro Classical Ballet Academy - ECPv4.1.4//NONSGML v1.0//EN
CALSCALE:GREGORIAN
METHOD:PUBLISH
X-WR-CALNAME:Foxboro Classical Ballet Academy
X-ORIGINAL-URL:http://www.foxboroballet.com
X-WR-CALDESC:Events for Foxboro Classical Ballet Academy
BEGIN:VEVENT
DTSTART;TZID=America/New_York:20240720T100000
DTEND;TZID=America/New_York:20240720T110000
DTSTAMP:20260425T130836
CREATED:20240708T132856
LAST-MODIFIED:20240708T132856
UID:10945-1721469600-1721473200@www.foxboroballet.com
SUMMARY:Adult/Teen Beg. to Advanced 10:00-11:00
DESCRIPTION:
URL:http://www.foxboroballet.com/event/adultteen-beg-to-advanced-1000-1100/2024-07-20/
END:VEVENT
END:VCALENDAR