BEGIN:VCALENDAR
VERSION:2.0
PRODID:-//Foxboro Classical Ballet Academy - ECPv4.1.4//NONSGML v1.0//EN
CALSCALE:GREGORIAN
METHOD:PUBLISH
X-WR-CALNAME:Foxboro Classical Ballet Academy
X-ORIGINAL-URL:http://www.foxboroballet.com
X-WR-CALDESC:Events for Foxboro Classical Ballet Academy
BEGIN:VEVENT
DTSTART;TZID=America/New_York:20210911T113000
DTEND;TZID=America/New_York:20210911T121500
DTSTAMP:20260425T114547
CREATED:20210804T143014
LAST-MODIFIED:20211227T154649
UID:9942-1631359800-1631362500@www.foxboroballet.com
SUMMARY:Adult and Teen Ballet 11:30-12:15
DESCRIPTION:Mothers of students are free.\n\nAll others $10
URL:http://www.foxboroballet.com/event/adult-and-teen-ballet/2021-09-11/
END:VEVENT
END:VCALENDAR